BEGIN:VCALENDAR
VERSION:2.0
PRODID:-//Gemeinschaftsschule am Marschweg - ECPv5.0.3.1//NONSGML v1.0//EN
CALSCALE:GREGORIAN
METHOD:PUBLISH
X-WR-CALNAME:Gemeinschaftsschule am Marschweg
X-ORIGINAL-URL:https://kaki-gam.de
X-WR-CALDESC:Veranstaltungen im Gemeinschaftsschule am Marschweg
BEGIN:VTIMEZONE
TZID:Europe/Berlin
BEGIN:DAYLIGHT
TZOFFSETFROM:+0100
TZOFFSETTO:+0200
TZNAME:CEST
DTSTART:20250330T010000
END:DAYLIGHT
BEGIN:STANDARD
TZOFFSETFROM:+0200
TZOFFSETTO:+0100
TZNAME:CET
DTSTART:20251026T010000
END:STANDARD
END:VTIMEZONE
BEGIN:VEVENT
DTSTART;VALUE=DATE:20250407
DTEND;VALUE=DATE:20250411
DTSTAMP:20260421T122130
CREATED:20250212T134930Z
LAST-MODIFIED:20250212T134930Z
UID:7944-1743984000-1744329599@kaki-gam.de
SUMMARY:Intensivlernwoche (9./10. Jg.)
DESCRIPTION:
URL:https://kaki-gam.de/event/intensivlernwoche-9-10-jg/
END:VEVENT
END:VCALENDAR