BEGIN:VCALENDAR
VERSION:2.0
PRODID:-//Gemeinschaftsschule am Marschweg - ECPv5.0.3.1//NONSGML v1.0//EN
CALSCALE:GREGORIAN
METHOD:PUBLISH
X-WR-CALNAME:Gemeinschaftsschule am Marschweg
X-ORIGINAL-URL:https://kaki-gam.de
X-WR-CALDESC:Veranstaltungen im Gemeinschaftsschule am Marschweg
BEGIN:VTIMEZONE
TZID:Europe/Berlin
BEGIN:DAYLIGHT
TZOFFSETFROM:+0100
TZOFFSETTO:+0200
TZNAME:CEST
DTSTART:20250330T010000
END:DAYLIGHT
BEGIN:STANDARD
TZOFFSETFROM:+0200
TZOFFSETTO:+0100
TZNAME:CET
DTSTART:20251026T010000
END:STANDARD
END:VTIMEZONE
BEGIN:VEVENT
DTSTART;TZID=Europe/Berlin:20250305T094000
DTEND;TZID=Europe/Berlin:20250305T111000
DTSTAMP:20260423T110751
CREATED:20250212T134730Z
LAST-MODIFIED:20250212T134730Z
UID:7942-1741167600-1741173000@kaki-gam.de
SUMMARY:Die Bundeswehr stellt sich vor (9./10. Klassen)
DESCRIPTION:
URL:https://kaki-gam.de/event/die-bundeswehr-stellt-sich-vor-9-10-klassen/
END:VEVENT
END:VCALENDAR