BEGIN:VCALENDAR
VERSION:2.0
PRODID:-//Gemeinschaftsschule am Marschweg - ECPv5.0.3.1//NONSGML v1.0//EN
CALSCALE:GREGORIAN
METHOD:PUBLISH
X-WR-CALNAME:Gemeinschaftsschule am Marschweg
X-ORIGINAL-URL:https://kaki-gam.de
X-WR-CALDESC:Veranstaltungen im Gemeinschaftsschule am Marschweg
BEGIN:VTIMEZONE
TZID:Europe/Berlin
BEGIN:DAYLIGHT
TZOFFSETFROM:+0100
TZOFFSETTO:+0200
TZNAME:CEST
DTSTART:20240331T010000
END:DAYLIGHT
BEGIN:STANDARD
TZOFFSETFROM:+0200
TZOFFSETTO:+0100
TZNAME:CET
DTSTART:20241027T010000
END:STANDARD
END:VTIMEZONE
BEGIN:VEVENT
DTSTART;VALUE=DATE:20241003
DTEND;VALUE=DATE:20241004
DTSTAMP:20260421T224859
CREATED:20241001T094951Z
LAST-MODIFIED:20241001T094951Z
UID:7790-1727913600-1727999999@kaki-gam.de
SUMMARY:Tag der deutschen Einheit
DESCRIPTION:
URL:https://kaki-gam.de/event/tag-der-deutschen-einheit/
END:VEVENT
END:VCALENDAR