BEGIN:VCALENDAR
VERSION:2.0
PRODID:-//Gemeinschaftsschule am Marschweg - ECPv5.0.3.1//NONSGML v1.0//EN
CALSCALE:GREGORIAN
METHOD:PUBLISH
X-WR-CALNAME:Gemeinschaftsschule am Marschweg
X-ORIGINAL-URL:https://kaki-gam.de
X-WR-CALDESC:Veranstaltungen im Gemeinschaftsschule am Marschweg
BEGIN:VTIMEZONE
TZID:Europe/Berlin
BEGIN:DAYLIGHT
TZOFFSETFROM:+0100
TZOFFSETTO:+0200
TZNAME:CEST
DTSTART:20240331T010000
END:DAYLIGHT
BEGIN:STANDARD
TZOFFSETFROM:+0200
TZOFFSETTO:+0100
TZNAME:CET
DTSTART:20241027T010000
END:STANDARD
END:VTIMEZONE
BEGIN:VEVENT
DTSTART;TZID=Europe/Berlin:20240515T080000
DTEND;TZID=Europe/Berlin:20240515T170000
DTSTAMP:20260422T080730
CREATED:20240503T070900Z
LAST-MODIFIED:20240503T070900Z
UID:7518-1715760000-1715792400@kaki-gam.de
SUMMARY:schriftl. ESA Englisch / MSA Deutsch Prüfungen
DESCRIPTION:
URL:https://kaki-gam.de/event/schriftl-esa-englisch-msa-deutsch-pruefungen-2/
END:VEVENT
END:VCALENDAR