BEGIN:VCALENDAR
VERSION:2.0
PRODID:-//Gemeinschaftsschule am Marschweg - ECPv5.0.3.1//NONSGML v1.0//EN
CALSCALE:GREGORIAN
METHOD:PUBLISH
X-WR-CALNAME:Gemeinschaftsschule am Marschweg
X-ORIGINAL-URL:https://kaki-gam.de
X-WR-CALDESC:Veranstaltungen im Gemeinschaftsschule am Marschweg
BEGIN:VTIMEZONE
TZID:Europe/Berlin
BEGIN:DAYLIGHT
TZOFFSETFROM:+0100
TZOFFSETTO:+0200
TZNAME:CEST
DTSTART:20210328T010000
END:DAYLIGHT
BEGIN:STANDARD
TZOFFSETFROM:+0200
TZOFFSETTO:+0100
TZNAME:CET
DTSTART:20211031T010000
END:STANDARD
END:VTIMEZONE
BEGIN:VEVENT
DTSTART;VALUE=DATE:20210201
DTEND;VALUE=DATE:20210202
DTSTAMP:20260421T195513
CREATED:20201028T063459Z
LAST-MODIFIED:20210111T113712Z
UID:5226-1612137600-1612223999@kaki-gam.de
SUMMARY:Beweglicher Ferientag
DESCRIPTION:
URL:https://kaki-gam.de/event/1-schultag-nach-ausgabe-der-halbjahreszeugnisse/
END:VEVENT
END:VCALENDAR